Workbook

Sheet 入力用紙
C1: 求 人 票 | U1: 〒024-0013 | Z1: 北上市藤沢22-123-1
U2: ℡ 0197-64-6551 Fax 0197-64-6581 | AL2: 入力上の注意 | AY2: 年号
U3: URL | W3: http://www.kca.ac.jp/ | AC3: E-Mail | AF3: career@kca.ac.jp
A4: 求 人 者 | C4: ふりがな | AL4: 入力部分以外は保護されてます | AW4: 明治 | AZ4: 有 | BB4: 全額 | BG4: 日曜 | BJ4: 可 | BM4: ○
C5: 事業所名 | AW5: 大正 | AZ5: 無 | BB5: 上限有り | BG5: 祝日 | BJ5: 否 | BP5: 随 時 | BW5: ～
AW6: 昭和 | BB6: 無 | BG6: 土曜 | BP6: 定員充足するまで | BW6: 以降
G7: 代表者 | K7: 職名 | R7: 氏名 | Z7: 代表℡ | AE7: ( | AH7: ) | AM7: リストからの選択入力 | AW7: 平成 | BG7: 月曜 | BP7: 期間指定
G8: ﾎｰﾑﾍﾟｰｼﾞ | K8: http:// | BG8: 火曜
C9: 会社概況 | G9: 設立 | K9: 資本金 | O9: 年商額 | S9: 支社数 | V9: 支店数 | Y9: 工場数 | AB9: 営業所数 | AE9: 全従業員数 | BG9: 水曜
AE10: 男性 | BG10: 木曜
G11: 内容 | AE11: 女性 | BG11: 金曜
AE12: 合計 | AG12: =AG10+AG11 -> 0
AM13: 文字(または数字)入力部分
C14: 所在地 | G14: 〒 | N14: 交通手段 | U14: 線 | Z14: 駅下車 | AC14: 徒歩
AM15: 数字入力する時は数字のみの入力
C17: 書類提出先 | G17: 〒 | AM17: 例 | AN17: ・ | AO17: 10人 → 10
AN18: ・ | AO18: 100000円
AP19: ↓
G20: 担当者 | J20: 所属 | R20: 職名 | Y20: 氏名 | AO20: 100000
G21: 連絡先 | J21: 電話 | N21: ( | Q21: ) | U21: Fax | Y21: ( | AB21: ) | AN21: ・ | AO21: 郵便番号
J22: E-mail | AO22: 024-0013
A23: 求人職種 | C23: 採 用 職 種 | J23: 求人数 | M23: 職 務 内 容 | Y23: 勤 務 地 | AD23: 必要とする資格等 | AP23: ↓
C24: ① | AO24: 0240013
C25: ② | AM25: 資本金および年商額は万円単位です。
C26: ③
C27: ④
C28: ⑤
A29: 勤 務 条 件 | C29: 賃金(現行)/職種別 | Q29: ① | U29: ② | Y29: ③ | AC29: ④ | AG29: ⑤
C30: 基本給
C31: 営業 | G31: 手当
G32: 手当
G33: 手当
G34: 手当
C35: 合計(税込) | I35: =SUM(I30:L34) -> 0 | M35: =SUM(M30:P34) -> 0 | Q35: =SUM(Q30:T34) -> 0 | U35: =SUM(U30:X34) -> 0 | Y35: =SUM(Y30:AB34) -> 0 | AC35: =SUM(AC30:AF34) -> 0 | AG35: =SUM(AG30:AJ34) -> 0
C36: 試用 期間 | G36: 有無 | L36: カ月 | P36: カ月 | Q36: 無 | T36: カ月 | X36: カ月 | AB36: カ月 | AF36: カ月 | AJ36: カ月
G37: 賃金
C38: 賞与 前年実績 | G38: 年 | J38: 回 | L38: 昇給 前年実績 | O38: 年 | R38: 回 | T38: 交通費 | AB38: 住宅手当
G39: 約 | J39: カ月 | O39: 約 | S39: 円 | Z39: 円まで | AI39: 円まで
C40: 勤務時間 | G40: 平日 | K40: ～ | N40: 残業 | T40: 休日 | U40: 固定休日 | X40: 1) | AA40: 2) | AD40: 3) | AG40: 4)
G41: 土曜 | K41: ～ | N41: 変形労働時間 | S41: 有 | U41: 週休2日制 | AA41: 月 | AD41: 回
C42: 宿舎施設 | G42: 入寮 | I42: 否 | K42: ｱﾊﾟｰﾄ斡旋 | Q42: その他 | AD42: 労働組合 | AI42: 無
C43: 加入保険等 | G43: 健康 | I43: ○ | K43: 厚生 | M43: ○ | O43: 雇用 | Q43: ○ | S43: 労災 | U43: ○ | W43: 財形 | AA43: その他
A44: 応募・選考要領 | C44: 会社 説明会 | H44: 日付 | K44: 開始 | N44: 終了 | P44: 場 所 | AD44: 備 考
G45: ① | M45: ～ | AL45: 日付の入力
G46: ② | M46: ～ | AM46: 3/12の形式で入力
G47: ③ | M47: ～
C48: 応募 書類 | G48: 修了見込証明書 | M48: 成績証明書 | S48: 推薦書 | Y48: 履歴書 | AE48: 健康診断書 | AL48: 時間の入力
G49: その他に必要書類 | AM49: 15:00の形式で入力
C50: 受付期間 | G50: 期間指定 | N50: 開始 | T50: ～ | W50: 終了
C51: 選考 方法 | G51: 筆記試験 | K51: 有 | L51: 専門 | P51: ○ | Q51: 一般常識 | V51: 作文 | AA51: その他
G52: 面接試験 | K52: 無 | L52: 適正検査 | Q52: 身体検査 | AA52: その他
C53: 選考 試験 | H53: 日付 | K53: 開始 | N53: 終了 | P53: 場 所 | AA53: 連絡先(電話) | AF53: 採否の発表
E54: 一次 | G54: ① | M54: ～
E55: 二次 | G55: ② | M55: ～
E56: 三次 | G56: ③ | M56: ～
A57: 補足 事項 | AD57: 受付印

Sheet 印刷用紙
B1: 受付日 | J1: 受付番号
C2: 求 人 票 | U2: 〒024-0013 | Z2: 北上市藤沢22-123-1
U3: ℡ 0197-64-6551 Fax 0198-64-6581
U4: URL | W4: http://www.kca.ac.jp/ | AC4: E-Mail | AF4: career@kca.ac.jp
A5: 求 人 者 | C5: ふりがな | G5: =入力用紙!G4 -> 0
C6: 事業所名 | G6: =入力用紙!G5 -> 0
G8: 代表者 | M8: =入力用紙!M7 -> 0 | R8: 氏名 | T8: =入力用紙!T7 -> 0 | Z8: 代表℡ | AC8: =入力用紙!AC7 -> 0 | AE8: ( | AF8: =入力用紙!AF7 -> 0 | AH8: ) | AI8: =入力用紙!AI7 -> 0
G9: ﾎｰﾑﾍﾟｰｼﾞ | K9: http:// | N9: =入力用紙!N8 -> 0
C10: 会社概況 | G10: 設立 | K10: 資本金 | O10: 年商額 | S10: 支社数 | V10: 支店数 | Y10: 工場数 | AB10: 営業所数 | AE10: 全従業員数
G11: =入力用紙!G10 -> 0 | I11: =入力用紙!I10 -> 0 | K11: =入力用紙!K10 -> 0 | O11: =入力用紙!O10 -> 0 | S11: =入力用紙!S10 -> 0 | V11: =入力用紙!V10 -> 0 | Y11: =入力用紙!Y10 -> 0 | AB11: =入力用紙!AB10 -> 0 | AE11: 男性 | AG11: =入力用紙!AG10 -> 0
G12: 内容 | H12: =入力用紙!H11 -> 0 | AE12: 女性 | AG12: =入力用紙!AG11 -> 0
AE13: 合計 | AG13: =入力用紙!AG12 -> 0
C15: 所在地 | G15: 〒 | H15: =入力用紙!H14 -> 0 | N15: 交通手段 | Q15: =入力用紙!Q14 -> 0 | U15: 線 | V15: =入力用紙!V14 -> 0 | Z15: 駅下車 | AC15: 徒歩 | AE15: =入力用紙!AE14 -> 0
G16: =入力用紙!G15 -> 0
C18: 書類提出先 | G18: 〒 | H18: =入力用紙!H17 -> 0
G19: =入力用紙!G18 -> 0
G21: 担当者 | J21: 所属 | L21: =入力用紙!L20 -> 0 | R21: 職名 | T21: =入力用紙!T20 -> 0 | Y21: 氏名 | AA21: =入力用紙!AA20 -> 0
G22: 連絡先 | J22: 電話 | L22: =入力用紙!L21 -> 0 | N22: ( | O22: =入力用紙!O21 -> 0 | Q22: ) | R22: =入力用紙!R21 -> 0 | U22: Fax | W22: =入力用紙!W21 -> 0 | Y22: ( | Z22: =入力用紙!Z21 -> 0 | AB22: ) | AC22: =入力用紙!AC21 -> 0 | AF22: =入力用紙!AF21 -> 0
J23: E-mail | L23: =入力用紙!L22 -> 0
A24: 求人職種 | C24: 採 用 職 種 | J24: 求人数 | M24: 職 務 内 容 | Y24: 勤 務 地 | AD24: 必要とする資格等
C25: ① | D25: =入力用紙!D24 -> 0 | J25: =入力用紙!J24 -> 0 | M25: =入力用紙!M24 -> 0 | Y25: =入力用紙!Y24 -> 0 | AD25: =入力用紙!AD24 -> 0
C26: ② | D26: =入力用紙!D25 -> 0 | J26: =入力用紙!J25 -> 0 | M26: =入力用紙!M25 -> 0 | Y26: =入力用紙!Y25 -> 0 | AD26: =入力用紙!AD25 -> 0
C27: ③ | D27: =入力用紙!D26 -> 0 | J27: =入力用紙!J26 -> 0 | M27: =入力用紙!M26 -> 0 | Y27: =入力用紙!Y26 -> 0 | AD27: =入力用紙!AD26 -> 0
C28: ④ | D28: =入力用紙!D27 -> 0 | J28: =入力用紙!J27 -> 0 | M28: =入力用紙!M27 -> 0 | Y28: =入力用紙!Y27 -> 0 | AD28: =入力用紙!AD27 -> 0
C29: ⑤ | D29: =入力用紙!D28 -> 0 | J29: =入力用紙!J28 -> 0 | M29: =入力用紙!M28 -> 0 | Y29: =入力用紙!Y28 -> 0 | AD29: =入力用紙!AD28 -> 0
A30: 勤 務 条 件 | C30: 賃金(現行)/職種別 | I30: =入力用紙!I29 -> 0 | M30: =入力用紙!M29 -> 0 | Q30: ① | U30: ② | Y30: ③ | AC30: ④ | AG30: ⑤
C31: 基本給 | I31: =入力用紙!I30 -> 0 | M31: =入力用紙!M30 -> 0 | Q31: =入力用紙!Q30 -> 0 | U31: =入力用紙!U30 -> 0 | Y31: =入力用紙!Y30 -> 0 | AC31: =入力用紙!AC30 -> 0 | AG31: =入力用紙!AG30 -> 0
C32: =入力用紙!C31 -> 営業 | G32: 手当 | I32: =入力用紙!I31 -> 0 | M32: =入力用紙!M31 -> 0 | Q32: =入力用紙!Q31 -> 0 | U32: =入力用紙!U31 -> 0 | Y32: =入力用紙!Y31 -> 0 | AC32: =入力用紙!AC31 -> 0 | AG32: =入力用紙!AG31 -> 0
C33: =入力用紙!C32 -> 0 | G33: 手当 | I33: =入力用紙!I32 -> 0 | M33: =入力用紙!M32 -> 0 | Q33: =入力用紙!Q32 -> 0 | U33: =入力用紙!U32 -> 0 | Y33: =入力用紙!Y32 -> 0 | AC33: =入力用紙!AC32 -> 0 | AG33: =入力用紙!AG32 -> 0
C34: =入力用紙!C33 -> 0 | G34: 手当 | I34: =入力用紙!I33 -> 0 | M34: =入力用紙!M33 -> 0 | Q34: =入力用紙!Q33 -> 0 | U34: =入力用紙!U33 -> 0 | Y34: =入力用紙!Y33 -> 0 | AC34: =入力用紙!AC33 -> 0 | AG34: =入力用紙!AG33 -> 0
C35: =入力用紙!C34 -> 0 | G35: 手当 | I35: =入力用紙!I34 -> 0 | M35: =入力用紙!M34 -> 0 | Q35: =入力用紙!Q34 -> 0 | U35: =入力用紙!U34 -> 0 | Y35: =入力用紙!Y34 -> 0 | AC35: =入力用紙!AC34 -> 0 | AG35: =入力用紙!AG34 -> 0
C36: 合計(税込) | I36: =SUM(I31:L35) -> 0 | M36: =SUM(M31:P35) -> 0 | Q36: =SUM(Q31:T35) -> 0 | U36: =SUM(U31:X35) -> 0 | Y36: =SUM(Y31:AB35) -> 0 | AC36: =SUM(AC31:AF35) -> 0 | AG36: =SUM(AG31:AJ35) -> 0
C37: 試用 期間 | G37: 有無 | I37: =入力用紙!I36 -> 0 | J37: =入力用紙!J36 -> 0 | K37: =入力用紙!K36 -> 0 | L37: カ月 | M37: =入力用紙!M36 -> 0 | N37: =入力用紙!N36 -> 0 | O37: =入力用紙!O36 -> 0 | P37: カ月 | Q37: =入力用紙!Q36 -> 無 | R37: =入力用紙!R36 -> 0 | S37: =入力用紙!S36 -> 0 | T37: カ月 | U37: =入力用紙!U36 -> 0 | V37: =入力用紙!V36 -> 0 | W37: =入力用紙!W36 -> 0 | X37: カ月 | Y37: =入力用紙!Y36 -> 0 | Z37: =入力用紙!Z36 -> 0 | AA37: =入力用紙!AA36 -> 0 | AB37: カ月 | AC37: =入力用紙!AC36 -> 0 | AD37: =入力用紙!AD36 -> 0 | AE37: =入力用紙!AE36 -> 0 | AF37: カ月 | AG37: =入力用紙!AG36 -> 0 | AH37: =入力用紙!AH36 -> 0 | AI37: =入力用紙!AI36 -> 0 | AJ37: カ月
G38: 賃金 | I38: =入力用紙!I37 -> 0 | M38: =入力用紙!M37 -> 0 | Q38: =入力用紙!Q37 -> 0 | U38: =入力用紙!U37 -> 0 | Y38: =入力用紙!Y37 -> 0 | AC38: =入力用紙!AC37 -> 0 | AG38: =入力用紙!AG37 -> 0
C39: 賞与 前年実績 | G39: 年 | H39: =入力用紙!H38 -> 0 | J39: 回 | L39: 昇給 前年実績 | O39: 年 | P39: =入力用紙!P38 -> 0 | R39: 回 | T39: 交通費 | W39: =入力用紙!W38 -> 0 | AB39: 住宅手当 | AF39: =入力用紙!AF38 -> 0
G40: 約 | H40: =入力用紙!H39 -> 0 | J40: カ月 | O40: 約 | P40: =入力用紙!P39 -> 0 | S40: 円 | W40: =入力用紙!W39 -> 0 | Z40: 円まで | AF40: =入力用紙!AF39 -> 0 | AI40: 円まで
C41: 勤務時間 | G41: 平日 | I41: =入力用紙!I40 -> 0 | K41: ～ | L41: =入力用紙!L40 -> 0 | N41: 残業 | P41: =入力用紙!P40 -> 0 | T41: 休日 | U41: 固定休日 | X41: 1) | Y41: =入力用紙!Y40 -> 0 | AA41: 2) | AB41: =入力用紙!AB40 -> 0 | AD41: 3) | AE41: =入力用紙!AE40 -> 0 | AG41: 4) | AI41: =入力用紙!AI40 -> 0
G42: 土曜 | I42: =入力用紙!I41 -> 0 | K42: ～ | L42: =入力用紙!L41 -> 0 | N42: 変形労働時間 | S42: =入力用紙!S41 -> 有 | U42: 週休2日制 | Y42: =入力用紙!Y41 -> 0 | AA42: 月 | AB42: =入力用紙!AB41 -> 0 | AD42: 回 | AE42: =入力用紙!AE41 -> 0
C43: 宿舎施設 | G43: 入寮 | I43: =入力用紙!I42 -> 否 | K43: ｱﾊﾟｰﾄ斡旋 | O43: =入力用紙!O42 -> 0 | Q43: その他 | T43: =入力用紙!T42 -> 0 | AD43: 労働組合 | AI43: =入力用紙!AI42 -> 無
C44: 加入保険等 | G44: 健康 | I44: =入力用紙!I43 -> ○ | K44: 厚生 | M44: =入力用紙!M43 -> ○ | O44: 雇用 | Q44: =入力用紙!Q43 -> ○ | S44: 労災 | U44: =入力用紙!U43 -> ○ | W44: 財形 | Y44: =入力用紙!Y43 -> 0 | AA44: その他 | AD44: =入力用紙!AD43 -> 0
A45: 応募・選考要領 | C45: 会社 説明会 | H45: 日付 | K45: 開始 | N45: 終了 | P45: 場 所 | AD45: 備 考
G46: ① | H46: =入力用紙!H45 -> 0 | K46: =入力用紙!K45 -> 0 | M46: ～ | N46: =入力用紙!N45 -> 0 | P46: =入力用紙!P45 -> 0 | AD46: =入力用紙!AD45 -> 0
G47: ② | H47: =入力用紙!H46 -> 0 | K47: =入力用紙!K46 -> 0 | M47: ～ | N47: =入力用紙!N46 -> 0 | P47: =入力用紙!P46 -> 0 | AD47: =入力用紙!AD46 -> 0
G48: ③ | H48: =入力用紙!H47 -> 0 | K48: =入力用紙!K47 -> 0 | M48: ～ | N48: =入力用紙!N47 -> 0 | P48: =入力用紙!P47 -> 0 | AD48: =入力用紙!AD47 -> 0
C49: 応募 書類 | G49: 修了見込証明書 | L49: =入力用紙!L48 -> 0 | M49: 成績証明書 | R49: =入力用紙!R48 -> 0 | S49: 推薦書 | X49: =入力用紙!X48 -> 0 | Y49: 履歴書 | AD49: =入力用紙!AD48 -> 0 | AE49: 健康診断書 | AJ49: =入力用紙!AJ48 -> 0
G50: その他に必要書類 | M50: =入力用紙!M49 -> 0 | S50: =入力用紙!S49 -> 0 | Y50: =入力用紙!Y49 -> 0 | AE50: =入力用紙!AE49 -> 0
C51: 受付期間 | G51: =入力用紙!G50 -> 期間指定 | N51: 開始 | P51: =入力用紙!P50 -> 0 | T51: =入力用紙!T50 -> ～ | W51: 終了 | Y51: =入力用紙!Y50 -> 0
C52: 選考 方法 | G52: 筆記試験 | K52: =入力用紙!K51 -> 有 | L52: 専門知識 | P52: =入力用紙!P51 -> ○ | Q52: 一般常識 | U52: =入力用紙!U51 -> 0 | V52: 作文 | Z52: =入力用紙!Z51 -> 0 | AA52: その他 | AD52: =入力用紙!AD51 -> 0 | AE52: =入力用紙!AE51 -> 0 | AF52: =入力用紙!AF51 -> 0 | AG52: =入力用紙!AG51 -> 0 | AH52: =入力用紙!AH51 -> 0 | AI52: =入力用紙!AI51 -> 0 | AJ52: =入力用紙!AJ51 -> 0
G53: 面接試験 | K53: =入力用紙!K52 -> 無 | L53: その他検査 | P53: =入力用紙!P52 -> 0 | Q53: 適正試験 | U53: =入力用紙!U52 -> 0 | V53: 身体検査 | Z53: =入力用紙!Z52 -> 0 | AA53: その他 | AD53: =入力用紙!AD52 -> 0
C54: 選考 試験 | H54: 日付 | K54: 開始 | N54: 終了 | P54: 場 所 | AA54: 連絡先(電話) | AF54: 採否の発表
E55: 一次 | G55: ① | H55: =入力用紙!H54 -> 0 | K55: =入力用紙!K54 -> 0 | M55: ～ | N55: =入力用紙!N54 -> 0 | P55: =入力用紙!P54 -> 0 | AA55: =入力用紙!AA54 -> 0 | AF55: =入力用紙!AF54 -> 0
E56: 二次 | G56: ② | H56: =入力用紙!H55 -> 0 | K56: =入力用紙!K55 -> 0 | M56: ～ | N56: =入力用紙!N55 -> 0 | P56: =入力用紙!P55 -> 0 | AA56: =入力用紙!AA55 -> 0 | AF56: =入力用紙!AF55 -> 0
E57: 三次 | G57: ③ | H57: =入力用紙!H56 -> 0 | K57: =入力用紙!K56 -> 0 | M57: ～ | N57: =入力用紙!N56 -> 0 | P57: =入力用紙!P56 -> 0 | AA57: =入力用紙!AA56 -> 0 | AF57: =入力用紙!AF56 -> 0
A58: 補足 事項 | C58: =入力用紙!C57 -> 0 | AD58: 受 付 日
C59: =入力用紙!C58 -> 0 | AD59: =F1 -> 0
C60: =入力用紙!C59 -> 0
C61: =入力用紙!C60 -> 0 | AD61: 受 付 番 号
C62: =入力用紙!C61 -> 0 | AD62: =N1 -> 0
C63: =入力用紙!C62 -> 0

Sheet データ作成用
A1: 受付日 | B1: 受付番号 | C1: 代表℡ | D1: 連番 | E1: 会社名 | F1: かな会社名 | G1: 郵便番号１ | H1: 所在地 | I1: 代表者役職 | J1: 代表者氏名 | K1: URL | L1: 資本金 | M1: 年商 | N1: 従業員数 | O1: 郵便番号２ | P1: 書類提出先 | Q1: 担当者所属 | R1: 担当者職名 | S1: 担当者 | T1: 連絡電話番号 | U1: fax番号 | V1: E-mail | W1: 職種 | X1: 求人数 | Y1: 勤務地 | Z1: 資格 | AA1: 給料 | AB1: 賞与回数 | AC1: 賞与月数 | AD1: 固定休日 | AE1: 週休二日 | AF1: 受付期間 | AG1: 受付開始 | AH1: 受付終了 | AI1: 説明会１ | AJ1: 説明会２ | AK1: 説明会３ | AL1: 選考試験
A2: =印刷用紙!F1 -> 0 | B2: =印刷用紙!N1 -> 0 | C2: =IF(印刷用紙!AC8+印刷用紙!AF8+印刷用紙!AI8>0,印刷用紙!AC8&"-"&印刷用紙!AF8&"-"&印刷用紙!AI8,印刷用紙!L22&"-"&印刷用紙!O22&"-"&印刷用紙!R22) -> 0-0-0 | D2: 1 | E2: =印刷用紙!G6 -> 0 | F2: =印刷用紙!G5 -> 0 | G2: =印刷用紙!H15 -> 0 | H2: =印刷用紙!G16 -> 0 | I2: =印刷用紙!M8 -> 0 | J2: =印刷用紙!T8 -> 0 | K2: =IF(入力用紙!N8="","",印刷用紙!K9&印刷用紙!N9) | L2: =印刷用紙!K11 -> 0 | M2: =印刷用紙!O11 -> 0 | N2: =印刷用紙!AG13 -> 0 | O2: =IF(印刷用紙!H18>0,印刷用紙!H18,印刷用紙!H15) -> 0 | P2: =IF(AND(印刷用紙!G19>0,印刷用紙!G2<>"同上"),印刷用紙!G19,印刷用紙!G16) -> 0 | Q2: =印刷用紙!L21 -> 0 | R2: =印刷用紙!T21 -> 0 | S2: =印刷用紙!AA21 -> 0 | T2: =IF(印刷用紙!L22+印刷用紙!O22+印刷用紙!R22=0,印刷用紙!AC8&"-"&印刷用紙!AF8&"-"&印刷用紙!AI8,印刷用紙!L22&"-"&印刷用紙!O22&"-"&印刷用紙!R22) -> 0-0-0 | U2: =IF(印刷用紙!W22+印刷用紙!Z22+印刷用紙!AC22>0,印刷用紙!W22&"-"&印刷用紙!Z22&"-"&印刷用紙!AC22,"") | V2: =IF(入力用紙!L22>0,入力用紙!L22,"") | W2: =印刷用紙!D25 -> 0 | X2: =印刷用紙!J25 -> 0 | Y2: =印刷用紙!Y25 -> 0 | Z2: =印刷用紙!AD25 -> 0 | AA2: =IF(印刷用紙!Q36>0,印刷用紙!Q36,印刷用紙!$I$36) -> 0 | AB2: =印刷用紙!H39 -> 0 | AC2: =入力用紙!H39 -> 0 | AD2: =IF(印刷用紙!Y41<>0,印刷用紙!Y41,"")&IF(印刷用紙!AB41<>0,"･"&印刷用紙!AB41,"")&IF(印刷用紙!AE41<>0,"･"&印刷用紙!AE41,"")&IF(印刷用紙!AI41<>0,"･"&印刷用紙!AI41,"") | AE2: =IF(印刷用紙!Y42="有",印刷用紙!AB42,"") | AF2: =印刷用紙!G51 -> 期間指定 | AG2: =IF(印刷用紙!P51>0,印刷用紙!P51,"") | AH2: =IF(印刷用紙!Y51>0,印刷用紙!Y51,"") | AI2: =IF(印刷用紙!H46>0,印刷用紙!H46,"") | AJ2: =IF(印刷用紙!H47>0,印刷用紙!H47,"") | AK2: =IF(印刷用紙!H48>0,印刷用紙!H48,"") | AL2: =IF(印刷用紙!H55>0,印刷用紙!H55,"")
A3: =IF($D3<>"",A$2,"") | B3: =IF($D3<>"",B$2,"") | C3: =IF($D3<>"",C$2,"") | D3: =IF(印刷用紙!D26>0,2,"") | E3: =IF($D3<>"",E$2,"") | F3: =IF($D3<>"",F$2,"") | G3: =IF($D3<>"",G$2,"") | H3: =IF($D3<>"",H$2,"") | I3: =IF($D3<>"",I$2,"") | J3: =IF($D3<>"",J$2,"") | K3: =IF($D3<>"",K$2,"") | L3: =IF($D3<>"",L$2,"") | ... V3: =IF($D3<>"",V$2,"") | W3: =印刷用紙!D26 -> 0 | X3: =印刷用紙!J26 -> 0 | Y3: =印刷用紙!Y26 -> 0 | Z3: =印刷用紙!AD26 -> 0 | AA3: =IF(印刷用紙!U36>0,印刷用紙!U36,印刷用紙!$I$36) -> 0 | AB3: =IF($D3<>"",AB$2,"") | AC3: =IF($D3<>"",AC$2,"") | AD3: =IF($D3<>"",AD$2,"") | AE3: =IF($D3<>"",AE$2,"") | AF3: =IF($D3<>"",AF$2,"") | AG3: =IF($D3<>"",AG$2,"") | AH3: =IF($D3<>"",AH$2,"") | AI3: =IF($D3<>"",AI$2,"") | ... AL3: =IF($D3<>"",AL$2,"")
A4: =IF($D4<>"",A$2,"") | B4: =IF($D4<>"",B$2,"") | C4: =IF($D4<>"",C$2,"") | D4: =IF(印刷用紙!D27>0,3,"") | E4: =IF($D4<>"",E$2,"") | F4: =IF($D4<>"",F$2,"") | G4: =IF($D4<>"",G$2,"") | H4: =IF($D4<>"",H$2,"") | I4: =IF($D4<>"",I$2,"") | J4: =IF($D4<>"",J$2,"") | K4: =IF($D4<>"",K$2,"") | L4: =IF($D4<>"",L$2,"") | ... V4: =IF($D4<>"",V$2,"") | W4: =印刷用紙!D27 -> 0 | X4: =印刷用紙!J27 -> 0 | Y4: =印刷用紙!Y27 -> 0 | Z4: =印刷用紙!AD27 -> 0 | AA4: =IF(印刷用紙!Y36>0,印刷用紙!Y36,印刷用紙!$I$36) -> 0 | AB4: =IF($D4<>"",AB$2,"") | AC4: =IF($D4<>"",AC$2,"") | AD4: =IF($D4<>"",AD$2,"") | AE4: =IF($D4<>"",AE$2,"") | AF4: =IF($D4<>"",AF$2,"") | AG4: =IF($D4<>"",AG$2,"") | AH4: =IF($D4<>"",AH$2,"") | AI4: =IF($D4<>"",AI$2,"") | ... AL4: =IF($D4<>"",AL$2,"")
A5: =IF($D5<>"",A$2,"") | B5: =IF($D5<>"",B$2,"") | C5: =IF($D5<>"",C$2,"") | D5: =IF(印刷用紙!D28>0,4,"") | E5: =IF($D5<>"",E$2,"") | F5: =IF($D5<>"",F$2,"") | G5: =IF($D5<>"",G$2,"") | H5: =IF($D5<>"",H$2,"") | I5: =IF($D5<>"",I$2,"") | J5: =IF($D5<>"",J$2,"") | K5: =IF($D5<>"",K$2,"") | L5: =IF($D5<>"",L$2,"") | ... V5: =IF($D5<>"",V$2,"") | W5: =印刷用紙!D28 -> 0 | X5: =印刷用紙!J28 -> 0 | Y5: =印刷用紙!Y28 -> 0 | Z5: =印刷用紙!AD28 -> 0 | AA5: =IF(印刷用紙!AC36>0,印刷用紙!AC36,印刷用紙!$I$36) -> 0 | AB5: =IF($D5<>"",AB$2,"") | AC5: =IF($D5<>"",AC$2,"") | AD5: =IF($D5<>"",AD$2,"") | AE5: =IF($D5<>"",AE$2,"") | AF5: =IF($D5<>"",AF$2,"") | AG5: =IF($D5<>"",AG$2,"") | AH5: =IF($D5<>"",AH$2,"") | AI5: =IF($D5<>"",AI$2,"") | ... AL5: =IF($D5<>"",AL$2,"")
A6: =IF($D6<>"",A$2,"") | B6: =IF($D6<>"",B$2,"") | C6: =IF($D6<>"",C$2,"") | D6: =IF(印刷用紙!D29>0,5,"") | E6: =IF($D6<>"",E$2,"") | F6: =IF($D6<>"",F$2,"") | G6: =IF($D6<>"",G$2,"") | H6: =IF($D6<>"",H$2,"") | I6: =IF($D6<>"",I$2,"") | J6: =IF($D6<>"",J$2,"") | K6: =IF($D6<>"",K$2,"") | L6: =IF($D6<>"",L$2,"") | ... V6: =IF($D6<>"",V$2,"") | W6: =印刷用紙!D29 -> 0 | X6: =印刷用紙!J29 -> 0 | Y6: =印刷用紙!Y29 -> 0 | Z6: =印刷用紙!AD29 -> 0 | AA6: =IF(印刷用紙!AG36>0,印刷用紙!AG36,印刷用紙!$I$36) -> 0 | AB6: =IF($D6<>"",AB$2,"") | AC6: =IF($D6<>"",AC$2,"") | AD6: =IF($D6<>"",AD$2,"") | AE6: =IF($D6<>"",AE$2,"") | AF6: =IF($D6<>"",AF$2,"") | AG6: =IF($D6<>"",AG$2,"") | AH6: =IF($D6<>"",AH$2,"") | AI6: =IF($D6<>"",AI$2,"") | ... AL6: =IF($D6<>"",AL$2,"")
C7: =IF($D7<>"",C$2,"") | E7: =IF($D7<>"",E$2,"") | F7: =IF($D7<>"",F$2,"") | G7: =IF($D7<>"",G$2,"") | H7: =IF($D7<>"",H$2,"") | I7: =IF($D7<>"",I$2,"") | J7: =IF($D7<>"",J$2,"") | K7: =IF($D7<>"",K$2,"") | L7: =IF($D7<>"",L$2,"") | ... V7: =IF($D7<>"",V$2,"")
